BEGIN:VCALENDAR
VERSION:2.0
PRODID:First National Barlow McEwan Tribe Open for Inspection - Perfectly
 Positioned
BEGIN:VTIMEZONE
TZID:Australia/Melbourne
BEGIN:STANDARD
DTSTART:20210227T120000
TZOFFSETTO:+1100
TZNAME:GMT+11
END:STANDARD
END:VTIMEZONE
BEGIN:VEVENT
UID:60368bddb7253
DTSTART;TZID=Australia/Melbourne:20210227T120000
SEQUENCE:0
TRANSP:OPAQUE
DTEND;TZID=Australia/Melbourne:20210227T123000
LOCATION:4/55 Rayner Street Altona VIC
SUMMARY:First National Barlow McEwan Tribe Open for Inspection - 4/55
 Rayner Street Altona VIC
CLASS:PUBLIC
DESCRIPTION:Open for Inspection: 4/55 Rayner Street Altona VIC Saturday
 27th Feb 12:00pm - 12:30pm Click the link for full listing information:
 https://www.barlows.com.au/sale/vic/west/altona/residential/townhouse/6280127
DTSTAMP:20210224T172445
END:VEVENT
END:VCALENDAR