BEGIN:VCALENDAR
VERSION:2.0
PRODID:First National Barlow McEwan Tribe Open for Inspection - Close to
 the heart of Altona
BEGIN:VTIMEZONE
TZID:Australia/Melbourne
BEGIN:STANDARD
DTSTART:20210227T120000
TZOFFSETTO:+1100
TZNAME:GMT+11
END:STANDARD
END:VTIMEZONE
BEGIN:VEVENT
UID:60368bed8a68f
DTSTART;TZID=Australia/Melbourne:20210227T120000
SEQUENCE:0
TRANSP:OPAQUE
DTEND;TZID=Australia/Melbourne:20210227T123000
LOCATION:4/100 Civic Parade Altona VIC
SUMMARY:First National Barlow McEwan Tribe Open for Inspection - 4/100
 Civic Parade Altona VIC
CLASS:PUBLIC
DESCRIPTION:Open for Inspection: 4/100 Civic Parade Altona VIC Saturday
 27th Feb 12:00pm - 12:30pm Click the link for full listing information:
 https://www.barlows.com.au/sale/vic/west/altona/residential/townhouse/5980754
DTSTAMP:20210224T172501
END:VEVENT
END:VCALENDAR