BEGIN:VCALENDAR
VERSION:2.0
PRODID:First National Barlow McEwan Tribe Open for Inspection - Renovate
 or Redevelop!
BEGIN:VTIMEZONE
TZID:Australia/Melbourne
BEGIN:STANDARD
DTSTART:20210227T110000
TZOFFSETTO:+1100
TZNAME:GMT+11
END:STANDARD
END:VTIMEZONE
BEGIN:VEVENT
UID:60368bd47f999
DTSTART;TZID=Australia/Melbourne:20210227T110000
SEQUENCE:0
TRANSP:OPAQUE
DTEND;TZID=Australia/Melbourne:20210227T113000
LOCATION:57 McBain Street Altona VIC
SUMMARY:First National Barlow McEwan Tribe Open for Inspection - 57 McBain
 Street Altona VIC
CLASS:PUBLIC
DESCRIPTION:Open for Inspection: 57 McBain Street Altona VIC Saturday 27th
 Feb 11:00am - 11:30am Click the link for full listing information:
 https://www.barlows.com.au/sale/vic/west/altona/residential/house/6282003
DTSTAMP:20210224T172436
END:VEVENT
END:VCALENDAR