BEGIN:VCALENDAR
VERSION:2.0
PRODID:First National Barlow McEwan Tribe Open for Inspection - As good as
 it gets in Altona Bay!
BEGIN:VTIMEZONE
TZID:Australia/Melbourne
BEGIN:STANDARD
DTSTART:20210227T100000
TZOFFSETTO:+1100
TZNAME:GMT+11
END:STANDARD
END:VTIMEZONE
BEGIN:VEVENT
UID:60368bbf4d7c6
DTSTART;TZID=Australia/Melbourne:20210227T100000
SEQUENCE:0
TRANSP:OPAQUE
DTEND;TZID=Australia/Melbourne:20210227T103000
LOCATION:2/53 Tatman Drive Altona Meadows VIC
SUMMARY:First National Barlow McEwan Tribe Open for Inspection - 2/53
 Tatman Drive Altona Meadows VIC
CLASS:PUBLIC
DESCRIPTION:Open for Inspection: 2/53 Tatman Drive Altona Meadows VIC
 Saturday 27th Feb 10:00am - 10:30am Click the link for full listing
 information:
 https://www.barlows.com.au/sale/vic/west/altona-meadows/residential/unit/6285825
DTSTAMP:20210224T172415
END:VEVENT
END:VCALENDAR