BEGIN:VCALENDAR
VERSION:2.0
PRODID:First National Barlow McEwan Tribe Open for Inspection - Start your
 future here!
BEGIN:VTIMEZONE
TZID:Australia/Melbourne
BEGIN:STANDARD
DTSTART:20210227T104500
TZOFFSETTO:+1100
TZNAME:GMT+11
END:STANDARD
END:VTIMEZONE
BEGIN:VEVENT
UID:60368bcfa559c
DTSTART;TZID=Australia/Melbourne:20210227T104500
SEQUENCE:0
TRANSP:OPAQUE
DTEND;TZID=Australia/Melbourne:20210227T111500
LOCATION:15 Merton Street Altona Meadows VIC
SUMMARY:First National Barlow McEwan Tribe Open for Inspection - 15 Merton
 Street Altona Meadows VIC
CLASS:PUBLIC
DESCRIPTION:Open for Inspection: 15 Merton Street Altona Meadows VIC
 Saturday 27th Feb 10:45am - 11:15am Click the link for full listing
 information:
 https://www.barlows.com.au/sale/vic/west/altona-meadows/residential/house/5639845
DTSTAMP:20210224T172431
END:VEVENT
END:VCALENDAR